BEGIN:VCALENDAR
VERSION:2.0
PRODID:-//ChamberMaster//Event Calendar 2.0//EN
METHOD:PUBLISH
X-PUBLISHED-TTL:P3D
REFRESH-INTERVAL:P3D
CALSCALE:GREGORIAN
BEGIN:VEVENT
DTSTART:20260519T223000Z
DTEND:20260519T233000Z
X-MICROSOFT-CDO-ALLDAYEVENT:FALSE
SUMMARY:2026 Ribbon Cutting/Expansion for DonutNV
DESCRIPTION:Join us in celebrating the ribbon cutting and expansion of DonutNV!! There will be give-aways for everyone\, samples of the donuts and lemonade.
X-ALT-DESC;FMTTYPE=text/html:Join us in celebrating the ribbon cutting and expansion of DonutNV!! There will be give-aways for everyone\, samples of the donuts and lemonade.&nbsp\;
LOCATION:Country Charm 628 W White St #104\, Anna\, TX 75409
UID:e.2952.3309
SEQUENCE:3
DTSTAMP:20260422T203426Z
URL:http://member.greaterannachamber.com/events/details/2026-ribbon-cutting-expansion-for-donutnv-3309
END:VEVENT

END:VCALENDAR
