BEGIN:VCALENDAR
VERSION:2.0
PRODID:-//ChamberMaster//Event Calendar 2.0//EN
METHOD:PUBLISH
X-PUBLISHED-TTL:P3D
REFRESH-INTERVAL:P3D
CALSCALE:GREGORIAN
BEGIN:VEVENT
DTSTART:20200915T163000Z
DTEND:20200915T173000Z
X-MICROSOFT-CDO-ALLDAYEVENT:FALSE
SUMMARY:Networking Lunch: Collin County Judges Presentation
DESCRIPTION:We invite you to our in-person networking lunch at Hurricane Creek Country Club. This will be a time for connecting with our Greater Anna Chamber members and to hear from three Collin County Judges. The Judges will be presenting on how they are handling cases during these challenging times and how they can be of assistance to Collin County business owners.\n\n\n\nDue to social distancing guidelines\, there is a maximum of 30 people allowed in the meeting. Registration includes deli boxed lunch and the opportunity to say your 30-second elevator speech during the luncheon. \n\nRegistration is $20 for both Greater Anna Chamber members and non-Chamber members.\n\n\n\nPresenters:\n\nJudge Andrea Thompson\, 416th District Court\n\nJudge Lindsey Wynne\, 468th District Court\n\nJudge Piper McCraw\, 469th District Court\n\n\n\nMust register in advance in order to attend.
X-ALT-DESC;FMTTYPE=text/html:<p>We invite you to our in-person networking lunch at Hurricane Creek Country Club. This will be a time for connecting with our Greater Anna Chamber members and to hear from three Collin County Judges. The Judges will be presenting on how they are handling cases during these challenging times and how they can be of assistance to Collin County business owners.<br />\n<br />\nDue to social distancing guidelines\, there is a maximum of 30 people allowed in the meeting. Registration includes deli boxed lunch and the opportunity to say your 30-second elevator speech during the luncheon.&nbsp\;</p>\n\n<p>Registration is $20 for both Greater Anna Chamber members and non-Chamber members.<br />\n<br />\nPresenters:</p>\n\n<p>Judge Andrea Thompson\, 416th District Court<br />\nJudge Lindsey Wynne\, 468th District Court<br />\nJudge Piper McCraw\, 469th District Court<br />\n<br />\nMust register in advance in order to attend.<br />\n&nbsp\;</p>\n
LOCATION:Hurricane Creek Country Club 1800 Fairway Lane Anna\, TX 75409
UID:e.2952.1732
SEQUENCE:3
DTSTAMP:20260424T104425Z
URL:http://member.greaterannachamber.com/events/details/networking-lunch-collin-county-judges-presentation-1732
END:VEVENT

END:VCALENDAR
