BEGIN:VCALENDAR
VERSION:2.0
PRODID:-//ChamberMaster//Event Calendar 2.0//EN
METHOD:PUBLISH
X-PUBLISHED-TTL:P3D
REFRESH-INTERVAL:P3D
CALSCALE:GREGORIAN
BEGIN:VEVENT
DTSTART:20240307T134500Z
DTEND:20240307T150000Z
X-MICROSOFT-CDO-ALLDAYEVENT:FALSE
SUMMARY:COFFEE & CONNECTIONS
DESCRIPTION:Join us on the first Thursday of every month for complimentary coffee and connections! This is our in-person event from 7:45am-9am at the new AISD Administration Building at 151 W Rosamond Parkway Anna\, TX 75409.  All Greater Anna Chamber members are welcome to attend. Guests are able to join us for up to 2 networking events prior to becoming a member. Remember to bring your business cards\, $1 and a 30 second elevator speech (i.e. self-introduction.)  Someone will walk away with half the money collected that morning.
X-ALT-DESC;FMTTYPE=text/html:<span style="background:white\;"><span style="color:#333333\;"><span style="font-family:arial\,sans-serif\;">Join us on the first Thursday of every month for complimentary coffee and connections! This is our in-person event from 7:45am-9am </span></span></span><span style="font-family: arial\, sans-serif\;">at the new AISD Administration Building at 151 W Rosamond Parkway Anna\, TX 75409</span><span style="background:white\;"><span style="color:#333333\;"><span style="font-family:arial\,sans-serif\;">.&nbsp\; All Greater Anna Chamber members are welcome to attend. Guests are able to join us for up to 2 networking events prior to becoming a member. Remember to bring your business cards\, $1 and a 30 second elevator speech (i.e. self-introduction.)&nbsp\; Someone will walk away with half the money collected that morning.</span></span></span>\n<div style="text-align: center\;"><font color="#ff0000" face="arial\, sans-serif"><span style="font-size: 14px\;"><b>&nbsp\;</b></span></font></div>\n
LOCATION:AISD Administration Building 151 W Rosamond Parkway Anna\, TX 75409
UID:e.2952.2520
SEQUENCE:3
DTSTAMP:20260420T123238Z
URL:https://member.greaterannachamber.com/events/details/2023-1st-thursday-03-07-2024-2520
END:VEVENT

END:VCALENDAR
