BEGIN:VCALENDAR
VERSION:2.0
PRODID:-//ChamberMaster//Event Calendar 2.0//EN
METHOD:PUBLISH
X-PUBLISHED-TTL:P3D
REFRESH-INTERVAL:P3D
CALSCALE:GREGORIAN
BEGIN:VEVENT
DTSTART:20260512T170000Z
DTEND:20260512T180000Z
X-MICROSOFT-CDO-ALLDAYEVENT:FALSE
SUMMARY:2026 Ribbon Cutting for UPS Melissa
DESCRIPTION:Join us for the Grand Opening and Ribbon Cutting for UPS Melissa!
X-ALT-DESC;FMTTYPE=text/html:Join us for the Grand Opening and Ribbon Cutting for UPS Melissa!&nbsp\;
LOCATION:140 Bucees Blvd Ste 300\, Melissa\, TX 75454
UID:e.2952.3308
SEQUENCE:3
DTSTAMP:20260420T205804Z
URL:https://member.greaterannachamber.com/events/details/2026-ribbon-cutting-for-ups-melissa-3308
END:VEVENT

END:VCALENDAR
