BEGIN:VCALENDAR
VERSION:2.0
PRODID:-//ChamberMaster//Event Calendar 2.0//EN
METHOD:PUBLISH
X-PUBLISHED-TTL:P3D
REFRESH-INTERVAL:P3D
CALSCALE:GREGORIAN
BEGIN:VEVENT
DTSTART:20241012T170000Z
DTEND:20241012T220000Z
X-MICROSOFT-CDO-ALLDAYEVENT:FALSE
SUMMARY:Wine Tasting and Live Acoustic Music by Meia Borden / Anna\, TX
DESCRIPTION:Tucked away in the peaceful Texas countryside in Anna\, BarnHill Vineyards offers more than just a location   it's an immersive experience. Envision yourself sipping some Texas wine surrounded by beautiful countryside\, our amiable resident horses & donkeys\, and our rustic wood barn.\n\nThere is no fee for entry or parking for this daytime LIVE MUSIC event.\n\nJoin us for...\n\n\n	Live music by Meia Borden will begin at 1:30 pm and continue until 4:30 pm.\n	Taste of Success\, one of our food truck partners will be there for those who would like a meal.\n	Wine will be available for purchase by the glass\, bottle or flight for tasting.\n\n	\n\n	Our wine menu is available on our website: https://www.barnhillvineyards.com/wine-menu\n\n\nChildren are welcome\, but since we are are working farm we ask that they stay by your side at all times.\n\nSmoking and vaping are allowed only in our designated area by handicapped parking. Please be mindful\, especially near our wooden barn and pastures\, as we take fire safety very seriously. Thanks so much!!\n\nWe promote an incredibly responsible Texas wine drinking experience in a fantastic country setting and yes\, we still let our hair down a bit! We'd love for you to share this live music event with your friends and help us get the word out about our small family business.\n\nIn His Grip!\n\nSteven and Corey Neuner
X-ALT-DESC;FMTTYPE=text/html:<div>\n<div>\n<p>Tucked away in the peaceful Texas countryside in Anna\, BarnHill Vineyards offers more than just a location &ndash\; it&#39\;s an immersive experience. Envision yourself sipping some Texas wine surrounded by beautiful countryside\, our amiable resident horses &amp\; donkeys\, and our rustic wood barn.</p>\n\n<p>There is no fee for entry or parking for this daytime LIVE MUSIC event.</p>\n\n<p>Join us for...</p>\n\n<ul>\n	<li><strong>Live music by Meia Borden&nbsp\;</strong>will begin at 1:30 pm and continue until 4:30 pm.</li>\n	<li><strong>Taste of Success\, one of our food truck partners&nbsp\;</strong>will be there for those who would like a meal.</li>\n	<li>Wine will be available for purchase by the glass\, bottle or flight for tasting.<br />\n	<br />\n	Our wine menu is available on our website:&nbsp\;<a href="https://www.barnhillvineyards.com/wine-menu" rel="nofollow noopener noreferrer" style="background-color: transparent\; color: var(--eds-control\,#3659e3)\; box-sizing: border-box\;" target="_blank" title="https://www.barnhillvineyards.com/wine-menu">https://www.barnhillvineyards.com/wine-menu</a></li>\n</ul>\n\n<p>Children are welcome\, but since we are are working farm we ask that they&nbsp\;<strong>stay by your side at all times</strong>.</p>\n\n<p>Smoking and vaping are allowed only in our designated area by handicapped parking. Please be mindful\, especially near our wooden barn and pastures\, as we take fire safety very seriously. Thanks so much!!</p>\n\n<p>We promote an incredibly responsible Texas wine drinking experience in a fantastic country setting and yes\, we still let our hair down a bit! We&#39\;d love for you to share this live music event with your friends and help us get the word out about our small family business.</p>\n\n<p>In His Grip!</p>\n\n<p>Steven and Corey Neuner</p>\n</div>\n</div>\n
LOCATION:BarnHill Vineyards 11917 County Road 509 Anna\, TX 75409 United States
UID:e.2952.2959
SEQUENCE:3
DTSTAMP:20260422T145729Z
URL:https://member.greaterannachamber.com/events/details/wine-tasting-and-live-acoustic-music-by-meia-borden-anna-tx-2959
END:VEVENT

END:VCALENDAR
